BEGIN:VCALENDAR
PRODID:http://wibix.de/infusions/pro_download_panel/download.php?did=27
VERSION:2.0
METHOD:PUBLISH
BEGIN:VEVENT
DTSTART:20200924T220000Z
UID:1081@http://www.BAWORAK.cz/
DTSTAMP:20200813T070410Z
DESCRIPTION:[url]https://www.baworak.cz/news.php?readmore=1202[/url]
SUMMARY:15. setkání MotoRoute 2020
CLASS:PUBLIC
RRULE:FREQ=DAILY;INTERVAL=1;UNTIL=20200927T220000Z
END:VEVENT
END:VCALENDAR
