BEGIN:VCALENDAR
PRODID:http://wibix.de/infusions/pro_download_panel/download.php?did=27
VERSION:2.0
METHOD:PUBLISH
BEGIN:VEVENT
DTSTART:20200827T220000Z
UID:1082@http://www.BAWORAK.cz/
DTSTAMP:20200819T072711Z
DESCRIPTION:[url]https://www.baworak.cz/news.php?readmore=1203[/url]
SUMMARY:Rally Kopanice 2020
CLASS:PUBLIC
RRULE:FREQ=DAILY;INTERVAL=1;UNTIL=20200829T220000Z
END:VEVENT
END:VCALENDAR
