BEGIN:VCALENDAR
PRODID:http://wibix.de/infusions/pro_download_panel/download.php?did=27
VERSION:2.0
METHOD:PUBLISH
BEGIN:VEVENT
DTSTART:20211119T230000Z
UID:1091@http://www.BAWORAK.cz/
DTSTAMP:20211110T115438Z
DESCRIPTION:[url]https://www.baworak.cz/news.php?readmore=1230[/url]
SUMMARY:Na motorkách z Vietnamu do České republiky
CLASS:PUBLIC
END:VEVENT
END:VCALENDAR
