BEGIN:VCALENDAR
PRODID:http://wibix.de/infusions/pro_download_panel/download.php?did=27
VERSION:2.0
METHOD:PUBLISH
BEGIN:VEVENT
DTSTART:20220318T230000Z
UID:1099@http://www.BAWORAK.cz/
DTSTAMP:20220314T075916Z
DESCRIPTION:KDY: v sobotu 19. března 2022 od 10 do 14 hodin\n\nKDE: v Renocaru Brno-Slatina, BMW Motorrad, Řípská 5c, 627 00 Brno\n\nPřipravili jsme pro Vás nabitý program, tak vezměte s sebou i další kamarády, protože motorka značky BMW není podmínkou.\n\nTěšte se na:\n\n    Prezentace nových motocyklů roku 2022\n    včetně plně elektrického skútru BMW CE 04 a řadového šestiválce K 1600\n    Novou kolekci Vybavení jezdce a lifestyle BMW Motorrad\n    Video tip k cestování nejen s BMW R 1250 GS po Maroku\n    Motojednotku Policie ČR, která představí své stroje BMW R 1250 RT\n    Ukázky a přednášky Policie ČR: - jak se chovat při nehodě a jak ovládat motocykl při pomalé jízdě\n    Občerstvení\n    A pokud přijedete na svých motocyklech a bude nám přát počasí, uděláme na závěr i spanilou jízdu\n\nTak si najděte čas a přijeďte se pobavit a sdílet radost z jízdy.\n\n[url]https://www.renocar.cz/motokalendar?fbclid=IwAR1XBxvpDoQTLqPTcBP4Bs4CMzJWeMDUgHGUHZvzVdIV3BUw2YAf-Ngntyo#zahajeni_moto_sezony[/url]
SUMMARY:ZAHÁJENÍ MOTO SEZÓNY S RENOCAREM
CLASS:PUBLIC
END:VEVENT
END:VCALENDAR
