BEGIN:VCALENDAR
PRODID:http://wibix.de/infusions/pro_download_panel/download.php?did=27
VERSION:2.0
METHOD:PUBLISH
BEGIN:VEVENT
DTSTART:20230511T220000Z
UID:1120@http://www.BAWORAK.cz/
DTSTAMP:20230406T055353Z
DESCRIPTION:24. setkání členů a příznivců stránek CENDURO\n\nBUDE! na Slovensku; tradičně druhý víkend v květnu,\ntzn. v termínu: 12. - 14. 5. 2023\n\nTentokrát nás do svého kraje pozvali\na setkání organizují Lubo, Jaro a Braňo​. clap\n\nTakže si to někam poznamenejte, rezervujte čas a můžete se těšit. Wink\n\nPodrobnosti k akci (kde to bude + jak se přihlásit)\nbudou uveřejněny v tomto vláknu měsíc před akcí, tedy 12. 4. 2023!\n\n[url]http://www.cenduro.cz/forum/viewthread.php?thread_id=2925&amp;pid=79252#post_79252[/url]
SUMMARY:CENDURO VÍTANIE JARI 2023
CLASS:PUBLIC
RRULE:FREQ=DAILY;INTERVAL=1;UNTIL=20230513T220000Z
END:VEVENT
END:VCALENDAR
