BEGIN:VCALENDAR
PRODID:http://wibix.de/infusions/pro_download_panel/download.php?did=27
VERSION:2.0
METHOD:PUBLISH
BEGIN:VEVENT
DTSTART:20250424T220000Z
UID:1156@http://www.BAWORAK.cz/
DTSTAMP:20250408T060119Z
DESCRIPTION:[url]https://www.baworak.cz/news.php?readmore=1348[/url]
SUMMARY:11. Cestovatelský víkend
CLASS:PUBLIC
RRULE:FREQ=DAILY;INTERVAL=1;UNTIL=20250426T220000Z
END:VEVENT
END:VCALENDAR
