BEGIN:VCALENDAR
PRODID:http://wibix.de/infusions/pro_download_panel/download.php?did=27
VERSION:2.0
METHOD:PUBLISH
BEGIN:VEVENT
DTSTART:20260304T230000Z
UID:1163@http://www.BAWORAK.cz/
DTSTAMP:20260210T094225Z
DESCRIPTION:[url]https://www.baworak.cz/news.php?readmore=1373[/url]
SUMMARY:MOTOSALON 2026
CLASS:PUBLIC
RRULE:FREQ=DAILY;INTERVAL=1;UNTIL=20260307T230000Z
END:VEVENT
END:VCALENDAR
